BEGIN:VCALENDAR
VERSION:2.0
PRODID:-//Center for Automotive Research - ECPv6.15.20//NONSGML v1.0//EN
CALSCALE:GREGORIAN
METHOD:PUBLISH
X-WR-CALNAME:Center for Automotive Research
X-ORIGINAL-URL:https://www.cargroup.org
X-WR-CALDESC:Events for Center for Automotive Research
REFRESH-INTERVAL;VALUE=DURATION:PT1H
X-Robots-Tag:noindex
X-PUBLISHED-TTL:PT1H
BEGIN:VTIMEZONE
TZID:America/Detroit
BEGIN:DAYLIGHT
TZOFFSETFROM:-0500
TZOFFSETTO:-0400
TZNAME:EDT
DTSTART:20230312T070000
END:DAYLIGHT
BEGIN:STANDARD
TZOFFSETFROM:-0400
TZOFFSETTO:-0500
TZNAME:EST
DTSTART:20231105T060000
END:STANDARD
BEGIN:DAYLIGHT
TZOFFSETFROM:-0500
TZOFFSETTO:-0400
TZNAME:EDT
DTSTART:20240310T070000
END:DAYLIGHT
BEGIN:STANDARD
TZOFFSETFROM:-0400
TZOFFSETTO:-0500
TZNAME:EST
DTSTART:20241103T060000
END:STANDARD
BEGIN:DAYLIGHT
TZOFFSETFROM:-0500
TZOFFSETTO:-0400
TZNAME:EDT
DTSTART:20250309T070000
END:DAYLIGHT
BEGIN:STANDARD
TZOFFSETFROM:-0400
TZOFFSETTO:-0500
TZNAME:EST
DTSTART:20251102T060000
END:STANDARD
END:VTIMEZONE
BEGIN:VEVENT
DTSTART;VALUE=DATE:20240522
DTEND;VALUE=DATE:20240524
DTSTAMP:20260423T044027
CREATED:20240222T162019Z
LAST-MODIFIED:20250330T174144Z
UID:52964-1716336000-1716508799@www.cargroup.org
SUMMARY:Reuters Automotive Europe
DESCRIPTION:
URL:https://www.cargroup.org/event/reuters-automotive-europe/
LOCATION:Hilton Munich Park\, Am Tucherpark 7\, München\, 80538\, Germany
CATEGORIES:Industry Events
END:VEVENT
BEGIN:VEVENT
DTSTART;VALUE=DATE:20240506
DTEND;VALUE=DATE:20240510
DTSTAMP:20260423T044027
CREATED:20240222T162338Z
LAST-MODIFIED:20250330T174143Z
UID:52967-1714953600-1715299199@www.cargroup.org
SUMMARY:Automate Chicago
DESCRIPTION:Automation isn’t just the future. It’s the here and now—and at Automate 2024. As North America’s largest robotics and automation event\, this is the place for anyone working with or curious about automation. Come discover what’s next for your business—and your industry
URL:https://www.cargroup.org/event/automate-chicago/
LOCATION:McCormick Place\, 2301 S Martin Luther King Dr\, Chicago\, IL\, 60616\, United States
CATEGORIES:Industry Events
END:VEVENT
BEGIN:VEVENT
DTSTART;TZID=America/Detroit:20240423T100000
DTEND;TZID=America/Detroit:20240423T110000
DTSTAMP:20260423T044027
CREATED:20240222T161739Z
LAST-MODIFIED:20250330T174145Z
UID:52962-1713866400-1713870000@www.cargroup.org
SUMMARY:WEBINAR - CAR Partner April Webinar
DESCRIPTION:
URL:https://www.cargroup.org/event/webinar-car-partner-april-webinar/
LOCATION:Zoom
CATEGORIES:CAR Event
END:VEVENT
BEGIN:VEVENT
DTSTART;VALUE=DATE:20240422
DTEND;VALUE=DATE:20240426
DTSTAMP:20260423T044027
CREATED:20240131T135611Z
LAST-MODIFIED:20250330T174151Z
UID:52624-1713744000-1714089599@www.cargroup.org
SUMMARY:ITS America Conference & Expo
DESCRIPTION:ITS America Conference & Expo brings together the entire intelligent transportation community for thought-provoking education\, networking\, and demonstrations exploring the technologies and solutions that will enable a better future.
URL:https://www.cargroup.org/event/its-america-conference-expo/
LOCATION:Phoenix Convention Center\, 100 N 3rd St\, Phoenix\, AZ\, 85004\, United States
CATEGORIES:Industry Events
END:VEVENT
END:VCALENDAR